BEGIN:VCALENDAR
VERSION:2.0
PRODID:-//The Alpine Club of Kitchener-Waterloo - ECPv6.15.20//NONSGML v1.0//EN
CALSCALE:GREGORIAN
METHOD:PUBLISH
X-ORIGINAL-URL:https://alpineclub.ca
X-WR-CALDESC:Events for The Alpine Club of Kitchener-Waterloo
REFRESH-INTERVAL;VALUE=DURATION:PT1H
X-Robots-Tag:noindex
X-PUBLISHED-TTL:PT1H
BEGIN:VTIMEZONE
TZID:UTC
BEGIN:STANDARD
TZOFFSETFROM:+0000
TZOFFSETTO:+0000
TZNAME:UTC
DTSTART:20240101T000000
END:STANDARD
END:VTIMEZONE
BEGIN:VEVENT
DTSTART;VALUE=DATE:20250607
DTEND;VALUE=DATE:20250608
DTSTAMP:20260421T154532
CREATED:20250322T132146Z
LAST-MODIFIED:20250322T132146Z
UID:2342-1749254400-1749340799@alpineclub.ca
SUMMARY:TCK DANCE GROUP FUNDRAISER
DESCRIPTION:https://transylvaniaclub.com/events/ for more details
URL:https://alpineclub.ca/event/tck-dance-group-fundraiser/
END:VEVENT
BEGIN:VEVENT
DTSTART;VALUE=DATE:20250614
DTEND;VALUE=DATE:20250615
DTSTAMP:20260421T154532
CREATED:20250322T132231Z
LAST-MODIFIED:20250322T132231Z
UID:2345-1749859200-1749945599@alpineclub.ca
SUMMARY:PRIVATE RENTAL
DESCRIPTION:
URL:https://alpineclub.ca/event/private-rental-12/
END:VEVENT
END:VCALENDAR